BEGIN:VCALENDAR
METHOD:PUBLISH
VERSION:2.0
PRODID:-//Eventilla iCal Syndication//NONSGML Liana//EN
BEGIN:VEVENT
UID:q7rZp@eventilla.com
DTSTAMP:20250521T060000Z
DTSTART:20250521T060000Z
DTEND:20250522T130000Z
SUMMARY:Compliance & riskienhallinta 2025
DESCRIPTION:OSTA LIPUT\nTervetuloa mukaan Työntekijäkokemus 2025-tapahtumaan – hyvä\, ettet jätä menestystäsi sattuman varaan! \nOlisiko teitä tulossa useampi? Hyödynnä edulliset ryhmälippuhinnat. Saat ryhmäalennuksen vähintään 3 hengen ja sitä isommille ryhmille.\nVoit kysyä ryhmätarjousta myös ryhmatarjous@professio.fi – autamme oikeasti mielellämme.
LOCATION:Hybriditapahtuma: Keilaranta Business Park\, Keilaranta 1 A\,
 02150\, Espoo\, Suomi
URL:http://events.professio.fi/event/q7rZp
END:VEVENT
END:VCALENDAR
